BEGIN:VCALENDAR
VERSION:2.0
PRODID:-//vivelexperience.com - ECPv6.15.20//NONSGML v1.0//EN
CALSCALE:GREGORIAN
METHOD:PUBLISH
X-WR-CALNAME:vivelexperience.com
X-ORIGINAL-URL:https://vivelexperience.com
X-WR-CALDESC:Events for vivelexperience.com
REFRESH-INTERVAL;VALUE=DURATION:PT1H
X-Robots-Tag:noindex
X-PUBLISHED-TTL:PT1H
BEGIN:VTIMEZONE
TZID:America/New_York
BEGIN:DAYLIGHT
TZOFFSETFROM:-0500
TZOFFSETTO:-0400
TZNAME:EDT
DTSTART:20240310T070000
END:DAYLIGHT
BEGIN:STANDARD
TZOFFSETFROM:-0400
TZOFFSETTO:-0500
TZNAME:EST
DTSTART:20241103T060000
END:STANDARD
BEGIN:DAYLIGHT
TZOFFSETFROM:-0500
TZOFFSETTO:-0400
TZNAME:EDT
DTSTART:20250309T070000
END:DAYLIGHT
BEGIN:STANDARD
TZOFFSETFROM:-0400
TZOFFSETTO:-0500
TZNAME:EST
DTSTART:20251102T060000
END:STANDARD
BEGIN:DAYLIGHT
TZOFFSETFROM:-0500
TZOFFSETTO:-0400
TZNAME:EDT
DTSTART:20260308T070000
END:DAYLIGHT
BEGIN:STANDARD
TZOFFSETFROM:-0400
TZOFFSETTO:-0500
TZNAME:EST
DTSTART:20261101T060000
END:STANDARD
END:VTIMEZONE
BEGIN:VEVENT
DTSTART;TZID=America/New_York:20250611T190000
DTEND;TZID=America/New_York:20250611T200000
DTSTAMP:20260421T100237
CREATED:20250519T182330Z
LAST-MODIFIED:20250625T224150Z
UID:7243-1749668400-1749672000@vivelexperience.com
SUMMARY:Vive Sénégal: Discovery Meeting - Summer July 2026 Trip (6/11/25)
DESCRIPTION:Learn all about our French educator trips to Senegal for July 2026. We will share the itinerary\, talk about our trip goals\, and explain how to book your spot. If you have attended an informational Discovery Meeting in the past about these Senegal trips for French teachers\, we recommend you come again to learn about our new lower pricing\, what’s included in our 2026 trip\, and a detailed walk through the day-by-day itinerary. Visit https://vivelexperience.com/tour/senegal-2026/ to learn more about our French educator trips to Senegal. Want to enjoy some videos about Senegal before the meeting? Enjoy these videos here: https://www.youtube.com/@vivelexperience. \nRSVP today to get a Zoom link via a free ticket to our 7pm ET meeting.  Merci! \n\n\n\nLe but de ce voyage est d’explorer le Sénégal et d’offrir des expériences enrichissantes d’immersion française pour des professeurs de français langue étrangère K-16.  Voyagez avec nous!   \n\n\nSmiles and introductions when French teachers arrive in Senegal\n\nVoici l’agenda pour notre réunion: \n\nVive l’expérience: nos leaders\, guides\, connaissances\nItinéraire\nDates\, passeports\, vols\nSanté\, assurance\, allergies\nComment et où s’inscrire (et le prix)\nVos questions
URL:https://vivelexperience.com/event/vive-senegal-discovery-meeting-summer-july-2026-trip/
LOCATION:Online Meeting/Webinar\, United States
CATEGORIES:Discovery
ATTACH;FMTTYPE=image/jpeg:https://vivelexperience.com/wp-content/uploads/2025/04/IMG_5140_edited-1.jpg
ORGANIZER;CN="Vive l'exp%C3%A9rience%2C LLC":MAILTO:info@vivelexperience.com
END:VEVENT
END:VCALENDAR