BEGIN:VCALENDAR
VERSION:2.0
PRODID:-//vivelexperience.com - ECPv6.15.20//NONSGML v1.0//EN
CALSCALE:GREGORIAN
METHOD:PUBLISH
X-WR-CALNAME:vivelexperience.com
X-ORIGINAL-URL:https://vivelexperience.com
X-WR-CALDESC:Events for vivelexperience.com
REFRESH-INTERVAL;VALUE=DURATION:PT1H
X-Robots-Tag:noindex
X-PUBLISHED-TTL:PT1H
BEGIN:VTIMEZONE
TZID:America/New_York
BEGIN:DAYLIGHT
TZOFFSETFROM:-0500
TZOFFSETTO:-0400
TZNAME:EDT
DTSTART:20250309T070000
END:DAYLIGHT
BEGIN:STANDARD
TZOFFSETFROM:-0400
TZOFFSETTO:-0500
TZNAME:EST
DTSTART:20251102T060000
END:STANDARD
BEGIN:DAYLIGHT
TZOFFSETFROM:-0500
TZOFFSETTO:-0400
TZNAME:EDT
DTSTART:20260308T070000
END:DAYLIGHT
BEGIN:STANDARD
TZOFFSETFROM:-0400
TZOFFSETTO:-0500
TZNAME:EST
DTSTART:20261101T060000
END:STANDARD
BEGIN:DAYLIGHT
TZOFFSETFROM:-0500
TZOFFSETTO:-0400
TZNAME:EDT
DTSTART:20270314T070000
END:DAYLIGHT
BEGIN:STANDARD
TZOFFSETFROM:-0400
TZOFFSETTO:-0500
TZNAME:EST
DTSTART:20271107T060000
END:STANDARD
END:VTIMEZONE
BEGIN:VEVENT
DTSTART;TZID=America/New_York:20260114T190000
DTEND;TZID=America/New_York:20260114T200000
DTSTAMP:20260421T084834
CREATED:20251222T225635Z
LAST-MODIFIED:20251222T230005Z
UID:8777-1768417200-1768420800@vivelexperience.com
SUMMARY:Tunisia Discovery Meeting for French Teachers on Zoom Jan 14
DESCRIPTION:Learn all about our 2026 & 2027 Tunisia French teacher trips. We will share the itinerary\, talk about our trip goals\, and explain how to book your spot and join a waitlist. You will learn about what’s included in our trip to Tunisia\, and we’ll walk you through our day-by-day itinerary. Visit https://vivelexperience.com/tour/tunisia-tunis-mediterranean-sahara-2026/ to learn more now.
URL:https://vivelexperience.com/event/tunisia-discovery-meeting-for-french-teachers-on-zoom-jan-14/
LOCATION:Online Meeting/Webinar\, United States
CATEGORIES:Discovery
ATTACH;FMTTYPE=image/jpeg:https://vivelexperience.com/wp-content/uploads/2025/04/IMG_2555-scaled.jpg
ORGANIZER;CN="Vive l'exp%C3%A9rience%2C LLC":MAILTO:info@vivelexperience.com
END:VEVENT
BEGIN:VEVENT
DTSTART;TZID=America/New_York:20260127T190000
DTEND;TZID=America/New_York:20260127T200000
DTSTAMP:20260421T084834
CREATED:20260113T033615Z
LAST-MODIFIED:20260119T172706Z
UID:8811-1769540400-1769544000@vivelexperience.com
SUMMARY:Vive Senegal Discovery Meeting for French Educator Trip July 2027
DESCRIPTION:We can’t wait to tell you all about our trips to Senegal. \nRSVP by clicking on the link below. \nhttps://zoom.us/meeting/register/9dTAV8CZRNuP2wPmc6NNOg \nAfter registering\, check your email: You should immediately receive a link to the meeting; check your spam/junk/promotional folders.\nNote the meeting time is EST (New York / Washington DC) \nContact katy@vivelexperience.com with any questions. \nMerci! \nKaty@vivelexperience.com \n 
URL:https://vivelexperience.com/event/vive-senegal-discovery-meeting-for-french-educator-trip-july-2027/
LOCATION:Online Meeting/Webinar\, United States
CATEGORIES:Discovery
ATTACH;FMTTYPE=image/heic:https://vivelexperience.com/wp-content/uploads/2025/04/IMG_8787-scaled.jpg
ORGANIZER;CN="Vive l'exp%C3%A9rience%2C LLC":MAILTO:info@vivelexperience.com
END:VEVENT
BEGIN:VEVENT
DTSTART;TZID=America/New_York:20260217T190000
DTEND;TZID=America/New_York:20260217T200000
DTSTAMP:20260421T084834
CREATED:20260207T213320Z
LAST-MODIFIED:20260207T213320Z
UID:8993-1771354800-1771358400@vivelexperience.com
SUMMARY:Vive Senegal Discovery Mtg Feb 17 French Language Educators for Summer 2026/2027
DESCRIPTION:We can’t wait to tell you all about our trips to Senegal for French language educators for Summer 2026 and 2027. \nRSVP by clicking on the link below for the February 10\, 2026 Zoom. The meeting time is 7pm EST (New York / Washington DC). \nClick on the link here to register.  NOTE: Clicking ADD to calendar does not register you for the event. \nAfter registering\, check your email: You should immediately receive a link to the meeting; check your spam/junk/promotional folders. \nContact katy@vivelexperience.com with any questions. \nMerci! \nKaty@vivelexperience.com
URL:https://vivelexperience.com/event/vive-senegal-discovery-meeting-feb17/
CATEGORIES:Discovery
ATTACH;FMTTYPE=image/heic:https://vivelexperience.com/wp-content/uploads/2025/11/IMG_7918-scaled.jpg
END:VEVENT
BEGIN:VEVENT
DTSTART;TZID=America/New_York:20260217T200000
DTEND;TZID=America/New_York:20260217T210000
DTSTAMP:20260421T084834
CREATED:20260207T213252Z
LAST-MODIFIED:20260207T213252Z
UID:9017-1771358400-1771362000@vivelexperience.com
SUMMARY:Vive Tunisia Discovery Meeting Feb 17 for Summer 2027 Trips for French Language Educators
DESCRIPTION:We can’t wait to tell you all about our French immersion and cultural trips to Tunisia for French language educators for Summer 2027. \nRSVP and REGISTER by clicking on the link here for the February 17\, 2026 Zoom at 8pm EST (New York / Washington DC). Note that clicking “Add to calendar” will NOT register you. \nAfter registering\, check your email: You should immediately receive a link to the meeting; check your spam/junk/promotional folders. \nContact katy@vivelexperience.com with any questions. \nMerci! \nKaty@vivelexperience.com
URL:https://vivelexperience.com/event/vive-tunisia-discovery-meeting-feb-17-for-summer-2027-trips-for-french-language-educators/
CATEGORIES:Discovery
ATTACH;FMTTYPE=image/jpeg:https://vivelexperience.com/wp-content/uploads/2025/01/iStock-615707428-scaled.jpg
END:VEVENT
BEGIN:VEVENT
DTSTART;TZID=America/New_York:20260316T190000
DTEND;TZID=America/New_York:20260316T200000
DTSTAMP:20260421T084834
CREATED:20260207T213210Z
LAST-MODIFIED:20260207T213210Z
UID:8998-1773687600-1773691200@vivelexperience.com
SUMMARY:Vive Senegal Discovery Meeting March 16 for Summer 2026/2027 Trips for French Language Educators
DESCRIPTION:We can’t wait to tell you all about our trips to Senegal for French language educators for Summer 2026 and 2027. \nRSVP by clicking on the link here to register for the Zoom on March 16\, 2026 7pm EST (New York / Washington DC). NOTE: Clicking ADD to calendar does not register you for the event. \nAfter registering\, check your email: You should immediately receive a link to the meeting; check your spam/junk/promotional folders. \nContact katy@vivelexperience.com with any questions. \nMerci! \nKaty@vivelexperience.com
URL:https://vivelexperience.com/event/vive-senegal-discovery-meeting-march-16-for-summer-2026-2027-trips-for-french-language-educators/
CATEGORIES:Discovery
ATTACH;FMTTYPE=image/webp:https://vivelexperience.com/wp-content/uploads/2017/01/IMG_6577-scaled.webp
END:VEVENT
BEGIN:VEVENT
DTSTART;TZID=America/New_York:20260316T200000
DTEND;TZID=America/New_York:20260316T210000
DTSTAMP:20260421T084834
CREATED:20260207T213134Z
LAST-MODIFIED:20260207T213134Z
UID:9014-1773691200-1773694800@vivelexperience.com
SUMMARY:Vive Tunisia Discovery Meeting March 16 for Summer 2027 Trips French Language Educators
DESCRIPTION:We can’t wait to tell you all about our French immersion and cultural trips to Tunisia for French language educators for Summer 2027. \nRSVP and REGISTER by clicking on the link here for the March 16\, 2026 Zoom at 8pm EST (New York / Washington DC). Note that clicking “Add to calendar” will NOT register you. \nAfter registering\, check your email: You should immediately receive a link to the meeting; check your spam/junk/promotional folders. \nContact katy@vivelexperience.com with any questions. \nMerci! \nKaty@vivelexperience.com
URL:https://vivelexperience.com/event/vive-tunisia-discovery-meeting-march-16-for-summer-2027-trips-french-language-educators/
CATEGORIES:Discovery
ATTACH;FMTTYPE=image/heic:https://vivelexperience.com/wp-content/uploads/2025/06/arena-scaled.jpg
END:VEVENT
BEGIN:VEVENT
DTSTART;TZID=America/New_York:20260414T190000
DTEND;TZID=America/New_York:20260414T200000
DTSTAMP:20260421T084834
CREATED:20260207T213106Z
LAST-MODIFIED:20260207T213106Z
UID:9000-1776193200-1776196800@vivelexperience.com
SUMMARY:Vive Senegal Discovery Meeting April 14 for Summer 2027 Trips for French Language Educators
DESCRIPTION:We can’t wait to tell you all about our trips to Senegal for French language educators for Summer 2027. \nRSVP by clicking on the link here for the April 14\, 2026 Zoom at 7pm EST (New York / Washington DC). Note that clicking “Add to calendar” will NOT register you. \nAfter registering\, check your email: You should immediately receive a link to the meeting; check your spam/junk/promotional folders. \nContact katy@vivelexperience.com with any questions. \nMerci! \nKaty@vivelexperience.com
URL:https://vivelexperience.com/event/vive-senegal-discovery-meeting-april-14-for-summer-2027-trips-for-french-language-educators/
CATEGORIES:Discovery
ATTACH;FMTTYPE=image/jpeg:https://vivelexperience.com/wp-content/uploads/2025/05/IMG_7608.avif
END:VEVENT
BEGIN:VEVENT
DTSTART;TZID=America/New_York:20260414T200000
DTEND;TZID=America/New_York:20260414T210000
DTSTAMP:20260421T084834
CREATED:20260207T213022Z
LAST-MODIFIED:20260207T213022Z
UID:9011-1776196800-1776200400@vivelexperience.com
SUMMARY:Vive Tunisia Discovery Meeting April 14 for Summer 2027 Trip for French Language Educations
DESCRIPTION:We can’t wait to tell you all about our French immersion and cultural trips to Tunisia for French language educators for Summer 2027. \nRSVP and REGISTER by clicking on the link here for the April 14\, 2026 Zoom at 8pm EST (New York / Washington DC). Note that clicking “Add to calendar” will NOT register you. \nAfter registering\, check your email: You should immediately receive a link to the meeting; check your spam/junk/promotional folders. \nContact katy@vivelexperience.com with any questions. \nMerci! \nKaty@vivelexperience.com
URL:https://vivelexperience.com/event/vive-tunisia-discovery-meeting-april-14-for-summer-2027-trip-for-french-language-educations/
CATEGORIES:Discovery
ATTACH;FMTTYPE=image/jpeg:https://vivelexperience.com/wp-content/uploads/2025/01/iStock-1180236066-scaled.jpg
END:VEVENT
BEGIN:VEVENT
DTSTART;TZID=America/New_York:20260511T190000
DTEND;TZID=America/New_York:20260511T200000
DTSTAMP:20260421T084834
CREATED:20260207T212938Z
LAST-MODIFIED:20260418T223733Z
UID:9003-1778526000-1778529600@vivelexperience.com
SUMMARY:Vive Senegal Discovery May 11 for Summer 2027 Trips for French Language Educators
DESCRIPTION:We can’t wait to tell you all about our French immersion and cultural trips to Senegal for French language educators for Summer 2027. \nRSVP and REGISTER by clicking on the link here for the May 11\, 2026 Zoom at 7pm EST (New York / Washington DC). Note that clicking “Add to calendar” will NOT register you. \nAfter registering\, check your email: You should immediately receive a link to the meeting; check your spam/junk/promotional folders. \nContact katy@vivelexperience.com with any questions. \nMerci! \nKaty@vivelexperience.com
URL:https://vivelexperience.com/event/vive-senegal-discovery-may-11-for-summer-2027-trips-for-french-language-educators/
LOCATION:Online Meeting/Webinar\, United States
CATEGORIES:Discovery
ATTACH;FMTTYPE=image/png:https://vivelexperience.com/wp-content/uploads/2025/05/Screenshot-2025-05-21-at-6.28.08-PM.png
ORGANIZER;CN="Vive l'exp%C3%A9rience%2C LLC":MAILTO:info@vivelexperience.com
END:VEVENT
BEGIN:VEVENT
DTSTART;TZID=America/New_York:20260511T200000
DTEND;TZID=America/New_York:20260511T210000
DTSTAMP:20260421T084834
CREATED:20260207T212914Z
LAST-MODIFIED:20260418T224024Z
UID:9009-1778529600-1778533200@vivelexperience.com
SUMMARY:Vive Tunisia Discovery Mtg May 11 for French Language Educator Trips
DESCRIPTION:We can’t wait to tell you all about our French immersion and cultural trips to Tunisia for French language educators for Summer 2027. \nRSVP and REGISTER by clicking on the link here for the May 11\, 2026 Zoom at 8pm EST (New York / Washington DC). Note that clicking “Add to calendar” will NOT register you. \nAfter registering\, check your email: You should immediately receive a link to the meeting; check your spam/junk/promotional folders. \nContact katy@vivelexperience.com with any questions. \nMerci! \nKaty@vivelexperience.com
URL:https://vivelexperience.com/event/vive-tunisia-discovery-mtg-may-11-for-french-language-educator-trips/
LOCATION:Online Meeting/Webinar\, United States
CATEGORIES:Discovery
ATTACH;FMTTYPE=image/jpeg:https://vivelexperience.com/wp-content/uploads/2025/06/last-photo-Tunisia-2-scaled.jpg
ORGANIZER;CN="Vive l'exp%C3%A9rience%2C LLC":MAILTO:info@vivelexperience.com
END:VEVENT
BEGIN:VEVENT
DTSTART;TZID=America/New_York:20260611T190000
DTEND;TZID=America/New_York:20260611T200000
DTSTAMP:20260421T084834
CREATED:20260418T214707Z
LAST-MODIFIED:20260418T214707Z
UID:9221-1781204400-1781208000@vivelexperience.com
SUMMARY:Senegal Discovery Meeting Summer 2027 & Summer 2028 French Teacher Trips
DESCRIPTION:We can’t wait to tell you all about our French immersion and cultural trips to Senegal for French language educators for Summer 2027 and 2028. \nRSVP and REGISTER by clicking on the link here for the June 11\, 2026 Zoom at 7pm EST (New York / Washington DC). Note that clicking “Add to calendar” will NOT register you. \nAfter registering\, check your email: You should immediately receive a link to the meeting; check your spam/junk/promotional folders. \n\nJune 2027 will include a French teacher trip going north to Saint-Louis and Podor.\nA shorter\, separate trip will be offered to AATF members who wish to get an introduction to Senegal as a AATF 2027 Pre-Convention Excursion.\nIn July 2028\, we will offer a program which includes Comprehensible Input workshops by Elodie Channa.\n\nContact katy@vivelexperience.com with any questions. Merci!
URL:https://vivelexperience.com/event/senegal-discovery-meeting-summer-2027-summer-2028-french-teacher-trips/
LOCATION:Online Meeting/Webinar\, United States
CATEGORIES:Discovery
ATTACH;FMTTYPE=image/heic:https://vivelexperience.com/wp-content/uploads/2025/06/IMG_3952-scaled.jpg
ORGANIZER;CN="Vive l'exp%C3%A9rience%2C LLC":MAILTO:info@vivelexperience.com
END:VEVENT
BEGIN:VEVENT
DTSTART;TZID=America/New_York:20260611T200000
DTEND;TZID=America/New_York:20260611T210000
DTSTAMP:20260421T084834
CREATED:20260418T220142Z
LAST-MODIFIED:20260418T220142Z
UID:9225-1781208000-1781211600@vivelexperience.com
SUMMARY:Tunisia Discovery Meeting for French Educator trips in March 2027 & June 2027
DESCRIPTION:Tunisia Discovery Meeting March 2027 & June 2027 French Teacher Trips \nWe can’t wait to tell you all about our French immersion and cultural trips to Tunisia for French language educators for Spring and Summer 2027. \nRSVP and REGISTER by clicking on the link here for the June 11\, 2026 Zoom at 8pm EST (New York / Washington DC). Note that clicking “Add to calendar” will NOT register you. \nAfter registering\, check your email: You should immediately receive a link to the meeting; check your spam/junk/promotional folders. \n\nA March 2027 will include a French teacher trip to Tunisia with more opportunities to connect with local educators and students\nIn June 2027\, we offer a slightly longer trip which will allow discovery of a few more places.\n\nContact katy@vivelexperience.com with any questions. Merci!
URL:https://vivelexperience.com/event/march_june_2027/
LOCATION:Online Meeting/Webinar\, United States
CATEGORIES:Discovery
ATTACH;FMTTYPE=image/jpeg:https://vivelexperience.com/wp-content/uploads/2017/01/IMG_2438-scaled.jpg
ORGANIZER;CN="Vive l'exp%C3%A9rience%2C LLC":MAILTO:info@vivelexperience.com
END:VEVENT
BEGIN:VEVENT
DTSTART;TZID=America/New_York:20260720T190000
DTEND;TZID=America/New_York:20260720T200000
DTSTAMP:20260421T084834
CREATED:20260418T222235Z
LAST-MODIFIED:20260418T222351Z
UID:9236-1784574000-1784577600@vivelexperience.com
SUMMARY:Senegal Discovery Meeting for Summer 2027 and 2028 French Teacher Trips
DESCRIPTION:We can’t wait to tell you all about our French immersion and cultural trips to Senegal for French language educators for Summer 2027 and 2028. \nRSVP and REGISTER by clicking on the link here for the July 20\, 2026 Zoom at 7pm EST (New York / Washington DC). Note that clicking “Add to calendar” will NOT register you. \nAfter registering\, check your email: You should immediately receive a link to the meeting; check your spam/junk/promotional folders. \n\nJune 2027 will include a French teacher trip going north to Saint-Louis and Podor.\nA shorter\, separate trip will be offered to AATF members who wish to get an introduction to Senegal as a AATF 2027 Pre-Convention Excursion.\nIn July 2028\, we will offer a program which includes Comprehensible Input workshops by Elodie Channa.\n\nContact katy@vivelexperience.com with any questions. Merci!
URL:https://vivelexperience.com/event/senegal-discovery-meeting-for-summer-2027-and-2028-french-teacher-trips/
LOCATION:Online Meeting/Webinar\, United States
CATEGORIES:Discovery
ATTACH;FMTTYPE=image/jpeg:https://vivelexperience.com/wp-content/uploads/2026/02/IMG_8083.jpg
ORGANIZER;CN="Vive l'exp%C3%A9rience%2C LLC":MAILTO:info@vivelexperience.com
END:VEVENT
BEGIN:VEVENT
DTSTART;TZID=America/New_York:20260720T200000
DTEND;TZID=America/New_York:20260720T210000
DTSTAMP:20260421T084834
CREATED:20260418T220822Z
LAST-MODIFIED:20260418T221636Z
UID:9228-1784577600-1784581200@vivelexperience.com
SUMMARY:Tunisia Discovery Meeting March 2027 & June 2027 French Teacher Trips
DESCRIPTION:Tunisia Discovery Meeting March 2027 & June 2027 French Teacher Trips \nWe can’t wait to tell you all about our French immersion and cultural trips to Tunisia for French language educators for Spring and Summer 2027. \nRSVP and REGISTER by clicking on the link here for the July 20\, 2026 Zoom at 8pm EST (New York / Washington DC). Note that clicking “Add to calendar” will NOT register you. \nAfter registering\, check your email: You should immediately receive a link to the meeting; check your spam/junk/promotional folders. \n\nA March 2027 will include a French teacher trip to Tunisia with more opportunities to connect with local educators and students\nIn June 2027\, we offer a slightly longer trip which will allow discovery of a few more places.\n\nContact katy@vivelexperience.com with any questions. Merci!
URL:https://vivelexperience.com/event/tunisia-discovery-meeting-march-2027-june-2027-french-teacher-trips/
LOCATION:Online Meeting/Webinar\, United States
CATEGORIES:Discovery
ATTACH;FMTTYPE=image/jpeg:https://vivelexperience.com/wp-content/uploads/2017/01/tunis-mosque-scaled.jpg
ORGANIZER;CN="Vive l'exp%C3%A9rience%2C LLC":MAILTO:info@vivelexperience.com
END:VEVENT
BEGIN:VEVENT
DTSTART;TZID=America/New_York:20260825T190000
DTEND;TZID=America/New_York:20260825T200000
DTSTAMP:20260421T084834
CREATED:20260418T223003Z
LAST-MODIFIED:20260418T223003Z
UID:9239-1787684400-1787688000@vivelexperience.com
SUMMARY:Senegal Discovery Meeting for Summer 2027 & 2028 Trips for French Educators (Aug 25)
DESCRIPTION:We can’t wait to tell you all about our French immersion and cultural trips to Senegal for French language educators for Summer 2027 and 2028. \nRSVP and REGISTER by clicking on the link here for the August 25\, 2026 Zoom at 7pm EST (New York / Washington DC). Note that clicking “Add to calendar” will NOT register you. \nAfter registering\, check your email: You should immediately receive a link to the meeting; check your spam/junk/promotional folders. \n\nJune 2027 will include a French teacher trip going north to Saint-Louis and Podor.\nA shorter\, separate trip will be offered to AATF members who wish to get an introduction to Senegal as a AATF 2027 Pre-Convention Excursion.\nIn July 2028\, we will offer a program which includes Comprehensible Input workshops by Elodie Channa.\n\nContact katy@vivelexperience.com with any questions. Merci!
URL:https://vivelexperience.com/event/senegal_discovery_august/
LOCATION:Online Meeting/Webinar\, United States
CATEGORIES:Discovery
ATTACH;FMTTYPE=image/jpeg:https://vivelexperience.com/wp-content/uploads/2017/01/IMG_7030-scaled.jpg
ORGANIZER;CN="Vive l'exp%C3%A9rience%2C LLC":MAILTO:info@vivelexperience.com
END:VEVENT
BEGIN:VEVENT
DTSTART;TZID=America/New_York:20260825T200000
DTEND;TZID=America/New_York:20260825T210000
DTSTAMP:20260421T084834
CREATED:20260418T221345Z
LAST-MODIFIED:20260418T221457Z
UID:9231-1787688000-1787691600@vivelexperience.com
SUMMARY:Tunisia Discovery Meeting March 2027 & June 2027 French Teacher Trips
DESCRIPTION:Tunisia Discovery Meeting March 2027 & June 2027 French Teacher Trips \nWe can’t wait to tell you all about our French immersion and cultural trips to Tunisia for French language educators for Spring and Summer 2027. \nRSVP and REGISTER by clicking on the link here for the August 25\, 2026 Zoom at 8pm EST (New York / Washington DC). Note that clicking “Add to calendar” will NOT register you. \nAfter registering\, check your email: You should immediately receive a link to the meeting; check your spam/junk/promotional folders. \n\nA March 2027 will include a French teacher trip to Tunisia with more opportunities to connect with local educators and students\nIn June 2027\, we offer a slightly longer trip which will allow discovery of a few more places.\n\nContact katy@vivelexperience.com with any questions. Merci!
URL:https://vivelexperience.com/event/tunisia-discovery-meeting-march-2027-june-2027-french-teacher-trips-2/
LOCATION:Online Meeting/Webinar\, United States
CATEGORIES:Discovery
ATTACH;FMTTYPE=image/jpeg:https://vivelexperience.com/wp-content/uploads/2017/01/IMG_7580.jpeg
ORGANIZER;CN="Vive l'exp%C3%A9rience%2C LLC":MAILTO:info@vivelexperience.com
END:VEVENT
END:VCALENDAR