BEGIN:VCALENDAR
VERSION:2.0
PRODID:-//vivelexperience.com - ECPv6.15.20//NONSGML v1.0//EN
CALSCALE:GREGORIAN
METHOD:PUBLISH
X-WR-CALNAME:vivelexperience.com
X-ORIGINAL-URL:https://vivelexperience.com
X-WR-CALDESC:Events for vivelexperience.com
REFRESH-INTERVAL;VALUE=DURATION:PT1H
X-Robots-Tag:noindex
X-PUBLISHED-TTL:PT1H
BEGIN:VTIMEZONE
TZID:America/New_York
BEGIN:DAYLIGHT
TZOFFSETFROM:-0500
TZOFFSETTO:-0400
TZNAME:EDT
DTSTART:20250309T070000
END:DAYLIGHT
BEGIN:STANDARD
TZOFFSETFROM:-0400
TZOFFSETTO:-0500
TZNAME:EST
DTSTART:20251102T060000
END:STANDARD
BEGIN:DAYLIGHT
TZOFFSETFROM:-0500
TZOFFSETTO:-0400
TZNAME:EDT
DTSTART:20260308T070000
END:DAYLIGHT
BEGIN:STANDARD
TZOFFSETFROM:-0400
TZOFFSETTO:-0500
TZNAME:EST
DTSTART:20261101T060000
END:STANDARD
BEGIN:DAYLIGHT
TZOFFSETFROM:-0500
TZOFFSETTO:-0400
TZNAME:EDT
DTSTART:20270314T070000
END:DAYLIGHT
BEGIN:STANDARD
TZOFFSETFROM:-0400
TZOFFSETTO:-0500
TZNAME:EST
DTSTART:20271107T060000
END:STANDARD
END:VTIMEZONE
BEGIN:VEVENT
DTSTART;TZID=America/New_York:20260825T200000
DTEND;TZID=America/New_York:20260825T210000
DTSTAMP:20260421T160913
CREATED:20260418T221345Z
LAST-MODIFIED:20260418T221457Z
UID:9231-1787688000-1787691600@vivelexperience.com
SUMMARY:Tunisia Discovery Meeting March 2027 & June 2027 French Teacher Trips
DESCRIPTION:Tunisia Discovery Meeting March 2027 & June 2027 French Teacher Trips \nWe can’t wait to tell you all about our French immersion and cultural trips to Tunisia for French language educators for Spring and Summer 2027. \nRSVP and REGISTER by clicking on the link here for the August 25\, 2026 Zoom at 8pm EST (New York / Washington DC). Note that clicking “Add to calendar” will NOT register you. \nAfter registering\, check your email: You should immediately receive a link to the meeting; check your spam/junk/promotional folders. \n\nA March 2027 will include a French teacher trip to Tunisia with more opportunities to connect with local educators and students\nIn June 2027\, we offer a slightly longer trip which will allow discovery of a few more places.\n\nContact katy@vivelexperience.com with any questions. Merci!
URL:https://vivelexperience.com/event/tunisia-discovery-meeting-march-2027-june-2027-french-teacher-trips-2/
LOCATION:Online Meeting/Webinar\, United States
CATEGORIES:Discovery
ATTACH;FMTTYPE=image/jpeg:https://vivelexperience.com/wp-content/uploads/2017/01/IMG_7580.jpeg
ORGANIZER;CN="Vive l'exp%C3%A9rience%2C LLC":MAILTO:info@vivelexperience.com
END:VEVENT
BEGIN:VEVENT
DTSTART;TZID=America/New_York:20260919T110000
DTEND;TZID=America/New_York:20260919T120000
DTSTAMP:20260421T160913
CREATED:20260115T190346Z
LAST-MODIFIED:20260119T180232Z
UID:8849-1789815600-1789819200@vivelexperience.com
SUMMARY:Webinar: Pour la rentrée: Shared Lessons All About Senegal
DESCRIPTION:Join this engaging webinar for French teachers for countless ideas for bulletin boards\, food & drink tastings\, and classroom lessons – all focusing on Senegal! \nSeptember 19\, 2026\, 11am EST \nClick here to register! \n\nLearn about a variety of French teachers as guest speakers to share lessons they have tried out in class\, and how they have adapted them for novice\, intermediate\, and advanced learners.\nDiscuss some Senegalese “celebrities” you may want to talk about in your classes: L’homme plastique\, Zeinixx\, Youssou N’dour\, Baaba Maal\, Sadio Mané.\nBrainstorm how to adapt past units on the Olympics as well as share resources for the upcoming Junior Olympics taking place in Senegal in October.\n\nIf you have an idea for your class\, but you aren’t sure how to move forward with your planning\, or need help on cultural context or even pronunciation of names\, cities or foods\, we are here to help! \nFeel free to email katy@vivelexperience.com to be added to our mailing list so you know when you can register for this or other webinars in the future. \nThis webinar will take place in French and English.
URL:https://vivelexperience.com/event/webinar-pour-la-rentree-shared-lessons-all-about-senegal/
LOCATION:Online Meeting/Webinar\, United States
CATEGORIES:Webinar
ATTACH;FMTTYPE=image/jpeg:https://vivelexperience.com/wp-content/uploads/2026/01/classroom-in-Yene.jpg
ORGANIZER;CN="Vive l'exp%C3%A9rience%2C LLC":MAILTO:info@vivelexperience.com
END:VEVENT
BEGIN:VEVENT
DTSTART;TZID=America/New_York:20261112T200000
DTEND;TZID=America/New_York:20261112T210000
DTSTAMP:20260421T160913
CREATED:20260115T174025Z
LAST-MODIFIED:20260119T180506Z
UID:8838-1794513600-1794517200@vivelexperience.com
SUMMARY:Webinar: Vietnam francophone
DESCRIPTION:Have you always wanted to learn more about contemporary French in Vietnam? \n\nDid you know that Vietnam is a member of the Organisation Mondiale de la Francophonie?\nDid you know that Vietnam has approximately a million speakers of French?\nHow might French teachers integrate Vietnam in their French language classes?\n\nClick here to register! \nAll French language educators are welcome to join Vive l’expérience for an evening webinar with guest experts on le Vietnam francophone. We are sure to focus on la littérature franco-vietnamienne. You will also gain ideas for your classroom and have time for questions. \nAs we get closer to the event\, we will update the webinar description with more details. The session will take place in French. \nPlease email katy@vivelexperience.com if you have any questions\, or visit this page again during the summer 2026.
URL:https://vivelexperience.com/event/webinar-vietnam-francophone/
LOCATION:Online Meeting/Webinar\, United States
CATEGORIES:Webinar
ATTACH;FMTTYPE=image/jpeg:https://vivelexperience.com/wp-content/uploads/2026/01/sunset-4954402_1280.jpg
ORGANIZER;CN="Vive l'exp%C3%A9rience%2C LLC":MAILTO:info@vivelexperience.com
END:VEVENT
BEGIN:VEVENT
DTSTART;TZID=America/New_York:20261205T110000
DTEND;TZID=America/New_York:20261205T120000
DTSTAMP:20260421T160913
CREATED:20260115T181036Z
LAST-MODIFIED:20260119T180705Z
UID:8842-1796468400-1796472000@vivelexperience.com
SUMMARY:Webinar: Magical Madagascar
DESCRIPTION:💚 Save the date: December 5\, 2026 💚 \n11am EST Webinar with a focus on Madagascar (could be Rwanda depending on guest speakers’ availability) \nClick here to register! \nThis webinar for French teachers will include experts from the selected country and will take place in French. Vive is currently having conversations to finalize a webinar (en français) focusing on this francophone location. \nPlease share with others on your Instagram\, LinkedIn and Facebook! \nWe will also share this information with anyone on our mailing list. Reach out to katy@vivelexperience.com if you’d like to be added.
URL:https://vivelexperience.com/event/webinar_december/
LOCATION:Online Meeting/Webinar\, United States
CATEGORIES:Webinar
ATTACH;FMTTYPE=image/jpeg:https://vivelexperience.com/wp-content/uploads/2026/01/lemur-1794519_1280.jpg
ORGANIZER;CN="Vive l'exp%C3%A9rience%2C LLC":MAILTO:info@vivelexperience.com
END:VEVENT
END:VCALENDAR