BEGIN:VCALENDAR
VERSION:2.0
PRODID:-//vivelexperience.com - ECPv6.15.20//NONSGML v1.0//EN
CALSCALE:GREGORIAN
METHOD:PUBLISH
X-WR-CALNAME:vivelexperience.com
X-ORIGINAL-URL:https://vivelexperience.com
X-WR-CALDESC:Events for vivelexperience.com
REFRESH-INTERVAL;VALUE=DURATION:PT1H
X-Robots-Tag:noindex
X-PUBLISHED-TTL:PT1H
BEGIN:VTIMEZONE
TZID:America/New_York
BEGIN:DAYLIGHT
TZOFFSETFROM:-0500
TZOFFSETTO:-0400
TZNAME:EDT
DTSTART:20240310T070000
END:DAYLIGHT
BEGIN:STANDARD
TZOFFSETFROM:-0400
TZOFFSETTO:-0500
TZNAME:EST
DTSTART:20241103T060000
END:STANDARD
BEGIN:DAYLIGHT
TZOFFSETFROM:-0500
TZOFFSETTO:-0400
TZNAME:EDT
DTSTART:20250309T070000
END:DAYLIGHT
BEGIN:STANDARD
TZOFFSETFROM:-0400
TZOFFSETTO:-0500
TZNAME:EST
DTSTART:20251102T060000
END:STANDARD
BEGIN:DAYLIGHT
TZOFFSETFROM:-0500
TZOFFSETTO:-0400
TZNAME:EDT
DTSTART:20260308T070000
END:DAYLIGHT
BEGIN:STANDARD
TZOFFSETFROM:-0400
TZOFFSETTO:-0500
TZNAME:EST
DTSTART:20261101T060000
END:STANDARD
END:VTIMEZONE
BEGIN:VEVENT
DTSTART;TZID=America/New_York:20250723T190000
DTEND;TZID=America/New_York:20250723T200000
DTSTAMP:20260421T054724
CREATED:20250601T221104Z
LAST-MODIFIED:20250625T224148Z
UID:7449-1753297200-1753300800@vivelexperience.com
SUMMARY:Vive Sénégal - Discovery Meeting for July 2026 Trip to Senegal  (7/23/25)
DESCRIPTION:Learn all about our July 2026 French immersion trip for teachers to Senegal. We will share the itinerary\, talk about our trip goals\, and explain how to book your spot. If you have attended an informational Discovery Meeting in the past\, we recommend you come again to learn about what’s included in our 2026 trip\, and a detailed walk through the day-by-day itinerary. Visit https://vivelexperience.com/tour/senegal-2026/ to learn more now. \nRSVP today to get a Zoom link via a free ticket to our 7pm Eastern Time meeting.  Merci! \n\n\n\nLe but de ce voyage est d’explorer le Sénégal et d’offrir des expériences enrichissantes d’immersion française pour des professeurs de français langue étrangère K-16.  Voyagez avec nous!  Hear what past teachers have to say here. \nVoici l’agenda pour notre réunion: \n\nVive l’expérience: nos leaders\, guides\, connaissances\nItinéraire\nDates\, passeports\, vols\nSanté\, assurance\, allergies\nComment et où s’inscrire (et le prix)\nVos questions\n\nJoin our 2026 trip to Senegal!
URL:https://vivelexperience.com/event/vive-senegal-july-2026-discovery-meeting/
LOCATION:Online Meeting/Webinar\, United States
CATEGORIES:Discovery
ATTACH;FMTTYPE=image/png:https://vivelexperience.com/wp-content/uploads/2025/05/Screenshot-2025-05-21-at-6.28.08-PM.png
ORGANIZER;CN="Vive l'exp%C3%A9rience%2C LLC":MAILTO:info@vivelexperience.com
END:VEVENT
BEGIN:VEVENT
DTSTART;TZID=America/New_York:20250730T190000
DTEND;TZID=America/New_York:20250730T200000
DTSTAMP:20260421T054724
CREATED:20250606T024013Z
LAST-MODIFIED:20250625T224147Z
UID:7483-1753902000-1753905600@vivelexperience.com
SUMMARY:Vive Tunisia - Discovery Meeting (7/30/25)
DESCRIPTION:Learn all about our 2026 & 2027 French immersion trip for teachers to Tunisia. We will share the itinerary\, talk about our trip goals\, and explain how to book your spot and join a waitlist. You will learn about what’s included in our trip to Tunisia\, and we’ll walk you through our day-by-day itinerary. Visit https://vivelexperience.com/tour/tunisia-tunis-mediterranean-sahara-2026/ to learn more now. \nRSVP today to get a Zoom link via a free ticket to our 7pm Eastern Time meeting.  Merci! \n\n\n\nLe but de ce voyage est d’explorer la Tunisie et d’offrir des expériences enrichissantes d’immersion française pour des professeurs de français langue étrangère K-16.  Voyagez avec nous!  Hear what past travelers on Vive trips have to say here. \nVoici l’agenda pour notre réunion: \n\nVive l’expérience: nos leaders\, guides\, connaissances\nItinéraire\nDates\, passeports\, vols\nSanté\, assurance\, allergies\nComment et où s’inscrire (et le prix)\nVos questions\n\nJoin our upcoming trip to Tunisia!
URL:https://vivelexperience.com/event/vive-tunisia-discovery-meeting/
LOCATION:Online Meeting/Webinar\, United States
CATEGORIES:Discovery
ATTACH;FMTTYPE=image/jpeg:https://vivelexperience.com/wp-content/uploads/2017/01/IMG_2526-scaled.jpg
ORGANIZER;CN="Vive l'exp%C3%A9rience%2C LLC":MAILTO:info@vivelexperience.com
END:VEVENT
END:VCALENDAR