BEGIN:VCALENDAR
VERSION:2.0
PRODID:-//vivelexperience.com - ECPv6.15.20//NONSGML v1.0//EN
CALSCALE:GREGORIAN
METHOD:PUBLISH
X-ORIGINAL-URL:https://vivelexperience.com
X-WR-CALDESC:Events for vivelexperience.com
REFRESH-INTERVAL;VALUE=DURATION:PT1H
X-Robots-Tag:noindex
X-PUBLISHED-TTL:PT1H
BEGIN:VTIMEZONE
TZID:America/New_York
BEGIN:DAYLIGHT
TZOFFSETFROM:-0500
TZOFFSETTO:-0400
TZNAME:EDT
DTSTART:20240310T070000
END:DAYLIGHT
BEGIN:STANDARD
TZOFFSETFROM:-0400
TZOFFSETTO:-0500
TZNAME:EST
DTSTART:20241103T060000
END:STANDARD
BEGIN:DAYLIGHT
TZOFFSETFROM:-0500
TZOFFSETTO:-0400
TZNAME:EDT
DTSTART:20250309T070000
END:DAYLIGHT
BEGIN:STANDARD
TZOFFSETFROM:-0400
TZOFFSETTO:-0500
TZNAME:EST
DTSTART:20251102T060000
END:STANDARD
BEGIN:DAYLIGHT
TZOFFSETFROM:-0500
TZOFFSETTO:-0400
TZNAME:EDT
DTSTART:20260308T070000
END:DAYLIGHT
BEGIN:STANDARD
TZOFFSETFROM:-0400
TZOFFSETTO:-0500
TZNAME:EST
DTSTART:20261101T060000
END:STANDARD
END:VTIMEZONE
BEGIN:VEVENT
DTSTART;TZID=America/New_York:20250514T200000
DTEND;TZID=America/New_York:20250514T210000
DTSTAMP:20260421T113445
CREATED:20250406T044455Z
LAST-MODIFIED:20250513T220942Z
UID:5752-1747252800-1747256400@vivelexperience.com
SUMMARY:Vive Tunisie: Discovery Meeting - Summer 2026 Trip
DESCRIPTION:Learn all about our upcoming inaugural summer trip to Tunisia in 2026. We will share the itinerary\, talk about our travel to Tunisia trip goals\, and explain how to book your spot. RSVP today to get a Zoom link via a free ticket to our 8pm ET meeting.  Merci! \n\n\n\nLe but de ce voyage est d’explorer la Tunisie et d’offrir des expériences enrichissantes d’immersion française pour des professeurs de français langue étrangère K-16.  Voyagez avec nous!   \n \n\n\n\n\n\n\n\n\n\nVoici l’agenda pour notre réunion: \n\nVive l’expérience: nos leaders\, guides\, connaissances\nItinéraire\nDates\, passeports\, vols\nSanté\, assurance\, allergies\nComment et où s’inscrire (et le prix)\nVos questions
URL:https://vivelexperience.com/event/tunisia-discovery-may14/
LOCATION:Online Meeting/Webinar\, United States
CATEGORIES:Discovery
ATTACH;FMTTYPE=image/jpeg:https://vivelexperience.com/wp-content/uploads/2025/01/iStock-475108703-scaled.jpg
ORGANIZER;CN="Vive l'exp%C3%A9rience%2C LLC":MAILTO:info@vivelexperience.com
END:VEVENT
END:VCALENDAR